BEGIN:VCALENDAR
PRODID:-//eluceo/ical//2.0/EN
VERSION:2.0
CALSCALE:GREGORIAN
BEGIN:VEVENT
UID:8dce1447ce0d2ce2328af68bd6b2bbf4
DTSTAMP:20260421T102351Z
SUMMARY:Friedrich Kunath: Include me out
DESCRIPTION:Die humorvolle Fichtengruppe mit gesenkten Augenlidern und spit
 zen Nasen\, der ein Baum nicht zugehörig ist\, rührt an soziale und gese
 llschaftliche Urängste. Zugleich erinnert die Skulptur an das Konzept der
  forstlichen Nachhaltigkeit (von Carlowitz\, 1713).
URL:https://www.meinplaner.com
DTSTART;TZID=Europe/Amsterdam:20260421T000000
DTEND;TZID=Europe/Amsterdam:20260421T235900
LOCATION:Robert-Koch-Straße 6\, 09380 Thalheim/Erzgeb.
BEGIN:VALARM
ACTION:DISPLAY
DESCRIPTION:Erinnerung: Friedrich Kunath: Include me out beginnt in 1 Stund
 e
TRIGGER;RELATED=END:-PT1H
END:VALARM
END:VEVENT
END:VCALENDAR
