BEGIN:VCALENDAR
PRODID:-//eluceo/ical//2.0/EN
VERSION:2.0
CALSCALE:GREGORIAN
BEGIN:VEVENT
UID:3612a53e1dacb4908ecf2ccc155382d8
DTSTAMP:20260423T112724Z
SUMMARY:Pferd am Stiel - Ein Hobby-Horsing-Abenteuer
DESCRIPTION:Im Film "Pferd am Stiel" entdecken die Freundinnen Sarah und Di
 lek das Hobby Horsing\, das zunächst für Spott sorgt\, doch nach einem S
 treit findet Sarah in Beatrice eine neue Freundin und wagt mit ihr das Abe
 nteuer einer Meisterschaft in Finnland.
URL:https://www.meinplaner.com
DTSTART;TZID=Europe/Amsterdam:20260423T143500
DTEND;TZID=Europe/Amsterdam:20260423T163500
LOCATION:Poetenweg 6-8\, 08056 Zwickau
BEGIN:VALARM
ACTION:DISPLAY
DESCRIPTION:Erinnerung: Pferd am Stiel - Ein Hobby-Horsing-Abenteuer beginn
 t in 1 Stunde
TRIGGER;RELATED=END:-PT1H
END:VALARM
END:VEVENT
BEGIN:VEVENT
UID:9e1b7bff0bd07e24833ec75616555ea4
DTSTAMP:20260423T112724Z
SUMMARY:Pferd am Stiel - Ein Hobby-Horsing-Abenteuer
DESCRIPTION:Im Film "Pferd am Stiel" entdecken die Freundinnen Sarah und Di
 lek das Hobby Horsing\, das zunächst für Spott sorgt\, doch nach einem S
 treit findet Sarah in Beatrice eine neue Freundin und wagt mit ihr das Abe
 nteuer einer Meisterschaft in Finnland.
URL:https://www.meinplaner.com
DTSTART;TZID=Europe/Amsterdam:20260423T173000
DTEND;TZID=Europe/Amsterdam:20260423T193000
LOCATION:Poetenweg 6-8\, 08056 Zwickau
BEGIN:VALARM
ACTION:DISPLAY
DESCRIPTION:Erinnerung: Pferd am Stiel - Ein Hobby-Horsing-Abenteuer beginn
 t in 1 Stunde
TRIGGER;RELATED=END:-PT1H
END:VALARM
END:VEVENT
END:VCALENDAR
