BEGIN:VCALENDAR
PRODID:-//eluceo/ical//2.0/EN
VERSION:2.0
CALSCALE:GREGORIAN
BEGIN:VEVENT
UID:41f07b4b1a94a55f8e66b5c5522dd24c
DTSTAMP:20260425T231514Z
SUMMARY:Frühstück im Hotel Drei Schwanen
DESCRIPTION:Ein Frühstück für Genießer: Das Buffet im Hotel Drei Schwan
 en bietet Welcome-Sekt\, Kaffee\, Tee\, Säfte\, Mineralwasser sowie eine 
 reichhaltige Auswahl an kalten und warmen Spezialitäten – perfekt für 
 einen genussvollen Start in den Tag.
URL:https://www.meinplaner.com
DTSTART;TZID=Europe/Amsterdam:20260426T060000
DTEND;TZID=Europe/Amsterdam:20260426T200000
LOCATION:Altmarkt 19\, 09337 Hohenstein-Ernstthal
BEGIN:VALARM
ACTION:DISPLAY
DESCRIPTION:Erinnerung: Frühstück im Hotel Drei Schwanen beginnt in 1 Stu
 nde
TRIGGER;RELATED=END:-PT1H
END:VALARM
END:VEVENT
END:VCALENDAR
