BEGIN:VCALENDAR
PRODID:-//eluceo/ical//2.0/EN
VERSION:2.0
CALSCALE:GREGORIAN
BEGIN:VEVENT
UID:3cddb0dd524969b5952b6e91df419f47
DTSTAMP:20260424T002827Z
SUMMARY:Bacaru in  Zwickaus grüner Natur-Tankstelle 
DESCRIPTION:Am Schwanenteich einen Kaffee trinken\, sich mit einem kühlen 
 Getränk erfrischen\, ein Eis schlecken und den Blick auf’s Wasser\, die
  große Wasserfontäne oder die Spitze des Doms genießen. Unmittelbar am 
 Gelände des Bootsverleihes liegt dieser wunderbare Ort.
URL:https://www.meinplaner.com
DTSTART;TZID=Europe/Amsterdam:20260424T140000
DTEND;TZID=Europe/Amsterdam:20260424T190000
LOCATION:Parkstr. 5A\, 08056 Zwickau
BEGIN:VALARM
ACTION:DISPLAY
DESCRIPTION:Erinnerung: Bacaru in  Zwickaus grüner Natur-Tankstelle  begin
 nt in 1 Stunde
TRIGGER;RELATED=END:-PT1H
END:VALARM
END:VEVENT
END:VCALENDAR
