BEGIN:VCALENDAR
PRODID:-//eluceo/ical//2.0/EN
VERSION:2.0
CALSCALE:GREGORIAN
BEGIN:VEVENT
UID:9fe6ff5978453742b6e08f86a4e5b3be
DTSTAMP:20260420T195818Z
SUMMARY:Jana Gunstheimer: dingenunner\, dingenauf
DESCRIPTION:Die wellenförmige Schieferskulptur von Jana Gunstheimer am Ufe
 r der Mulde spielt mit Tradition\, Handwerk und Humor. Der in Frakturschri
 ft lesbare Spruch „schlechte Laune“ fordert fragend heraus und setzt e
 in Zeichen gegen klischeehafte Zuschreibungen.
URL:https://www.meinplaner.com
DTSTART;TZID=Europe/Amsterdam:20260420T000000
DTEND;TZID=Europe/Amsterdam:20260420T235900
LOCATION:Dr.-Friedrichs-Ring \, 08056 Zwickau
BEGIN:VALARM
ACTION:DISPLAY
DESCRIPTION:Erinnerung: Jana Gunstheimer: dingenunner\, dingenauf beginnt i
 n 1 Stunde
TRIGGER;RELATED=END:-PT1H
END:VALARM
END:VEVENT
END:VCALENDAR
