BEGIN:VCALENDAR
PRODID:-//eluceo/ical//2.0/EN
VERSION:2.0
CALSCALE:GREGORIAN
BEGIN:VEVENT
UID:295db07f577354329bf497fd536894bb
DTSTAMP:20260425T110309Z
SUMMARY:Schneeberger Anton Günther Mitsingen
DESCRIPTION:Bei schönem Wetter findet das Singen unter freiem Himmel statt
 . Gäste erleben echte Erzgebirgsklänge\, genießen die gemütliche Stimm
 ung und singen gemeinsam Lieder des Heimatdichters. Grill und Fassbier sor
 gen fürs leibliche Wohl
URL:https://www.meinplaner.com
DTSTART;TZID=Europe/Amsterdam:20260503T160000
DTEND;TZID=Europe/Amsterdam:20260503T180000
LOCATION:Fürstenplatz 5\, 08289 Schneeberg
BEGIN:VALARM
ACTION:DISPLAY
DESCRIPTION:Erinnerung: Schneeberger Anton Günther Mitsingen beginnt in 1 
 Stunde
TRIGGER;RELATED=END:-PT1H
END:VALARM
END:VEVENT
END:VCALENDAR
