BEGIN:VCALENDAR
PRODID:-//eluceo/ical//2.0/EN
VERSION:2.0
CALSCALE:GREGORIAN
BEGIN:VEVENT
UID:93ce8f056514e738bcf0d55635457621
DTSTAMP:20260420T152353Z
SUMMARY:Dartturnier - The Dart Side
DESCRIPTION:Das Dartturnier in der Fledermaus verspricht spannende Duelle u
 nd eine ausgelassene Atmosphäre\, während die Teilnehmer ihre Treffsiche
 rheit unter Beweis stellen und die Zuschauer mit jedem Wurf mitfiebern\, b
 egleitet von Musik und kulinarischen Köstlichkeiten.
URL:https://www.meinplaner.com
DTSTART;TZID=Europe/Amsterdam:20260502T193000
DTEND;TZID=Europe/Amsterdam:20260502T213000
LOCATION:Bahnhofstr. 18\, 09111 Chemnitz
BEGIN:VALARM
ACTION:DISPLAY
DESCRIPTION:Erinnerung: Dartturnier - The Dart Side beginnt in 1 Stunde
TRIGGER;RELATED=END:-PT1H
END:VALARM
END:VEVENT
END:VCALENDAR
