BEGIN:VCALENDAR
PRODID:-//eluceo/ical//2.0/EN
VERSION:2.0
CALSCALE:GREGORIAN
BEGIN:VEVENT
UID:4134056b25aa9e9513fa0195f24ba360
DTSTAMP:20260423T081808Z
SUMMARY:Familienausflug zum 1. Mai
DESCRIPTION:Ein Tag voller Spiel\, Spaß und Bewegung: Über 45 Attraktione
 n\, ein großer Wildpark und die Indoorspielwelt bieten beste Voraussetzun
 gen für einen abwechslungsreichen Familienausflug. Ob draußen aktiv oder
  wetterunabhängig drinnen – für jeden etwas dabei.
URL:https://www.meinplaner.com
DTSTART;TZID=Europe/Amsterdam:20260501T100000
DTEND;TZID=Europe/Amsterdam:20260501T180000
LOCATION:Zum Sonnenlandpark 1\, 09244 Lichtenau
BEGIN:VALARM
ACTION:DISPLAY
DESCRIPTION:Erinnerung: Familienausflug zum 1. Mai beginnt in 1 Stunde
TRIGGER;RELATED=END:-PT1H
END:VALARM
END:VEVENT
END:VCALENDAR
