BEGIN:VCALENDAR
PRODID:-//eluceo/ical//2.0/EN
VERSION:2.0
CALSCALE:GREGORIAN
BEGIN:VEVENT
UID:b37d27f1eaf7352ad632eb1b18d5c861
DTSTAMP:20260426T000823Z
SUMMARY:Self-In - Heilpraxis für Psychotherapie
DESCRIPTION:Unsere Seele braucht manchmal Unterstützung. Heilpraktikerin f
 ür Psychotherapie Corinna Scheidemantel bietet im Konzepthaus Lutherviert
 el Hilfe mit Methoden wie Gesprächstherapie und Reiki. Ziel: Blockaden l
 ösen\, Selbstheilung fördern\, Zuversicht stärken.
URL:https://www.meinplaner.com
DTSTART;TZID=Europe/Amsterdam:20260426T000000
DTEND;TZID=Europe/Amsterdam:20260426T235900
LOCATION:Jahnstraße 23\, 09126 Chemnitz
BEGIN:VALARM
ACTION:DISPLAY
DESCRIPTION:Erinnerung: Self-In - Heilpraxis für Psychotherapie beginnt in
  1 Stunde
TRIGGER;RELATED=END:-PT1H
END:VALARM
END:VEVENT
END:VCALENDAR
