BEGIN:VCALENDAR
PRODID:-//eluceo/ical//2.0/EN
VERSION:2.0
CALSCALE:GREGORIAN
BEGIN:VEVENT
UID:282385e7f96430330ef9aa75bd165861
DTSTAMP:20260423T111734Z
SUMMARY:Arena E Family Race
DESCRIPTION:Family Day in der Motorsportarena: Gemeinsam ins Rennen starten
  und als Team durchs Kart-Indoor-Oval jagen! Geboten werden 20 Minuten Tra
 ining\, ein spannendes Qualifying auch mit Kids\, Siegerehrung mit Urkunde
 n und jede Menge Spaß auf der Strecke.
URL:https://www.meinplaner.com
DTSTART;TZID=Europe/Amsterdam:20260513T170000
DTEND;TZID=Europe/Amsterdam:20260513T190000
LOCATION:Niedermülsener Hauptstr. 14b\, 08132 Mülsen
BEGIN:VALARM
ACTION:DISPLAY
DESCRIPTION:Erinnerung: Arena E Family Race beginnt in 1 Stunde
TRIGGER;RELATED=END:-PT1H
END:VALARM
END:VEVENT
END:VCALENDAR
