BEGIN:VCALENDAR
PRODID:-//eluceo/ical//2.0/EN
VERSION:2.0
CALSCALE:GREGORIAN
BEGIN:VEVENT
UID:f65b2c5302f1ebeb851c26711fc9daee
DTSTAMP:20260424T113827Z
SUMMARY:Die Falknerin in Wolkenstein
DESCRIPTION:Die Falknerin in Wolkenstein lädt zu einer einstündigen\, hau
 tnahen Erfahrung des Weltkulturerbes Falknerei ein.
URL:https://www.meinplaner.com
DTSTART;TZID=Europe/Amsterdam:20260508T150000
DTEND;TZID=Europe/Amsterdam:20260508T170000
LOCATION:Schloßplatz  1\, 09429 Wolkenstein
BEGIN:VALARM
ACTION:DISPLAY
DESCRIPTION:Erinnerung: Die Falknerin in Wolkenstein beginnt in 1 Stunde
TRIGGER;RELATED=END:-PT1H
END:VALARM
END:VEVENT
END:VCALENDAR
