BEGIN:VCALENDAR
PRODID:-//eluceo/ical//2.0/EN
VERSION:2.0
CALSCALE:GREGORIAN
BEGIN:VEVENT
UID:77eefc144a83b5d43d29217cde911fdc
DTSTAMP:20260422T165413Z
SUMMARY:Echtes Mittelalter-Feeling hoch über dem Fluss
DESCRIPTION:Sie gilt als schönste Ritterburg Sachsens! Imposant erhebt sie
  sich auf einem steilen Felsen über dem Fluss Zschopau. Besonders sehensw
 ert sind neben dem Museum der monumentale Wohnturm\, die Burgkapelle mit M
 alereien um 1410 und das Kriebsteinzimmer.\n
URL:https://www.meinplaner.com
DTSTART;TZID=Europe/Amsterdam:20260423T100000
DTEND;TZID=Europe/Amsterdam:20260423T170000
LOCATION:Kriebsteiner Str. 7\, 09648 Kriebstein
BEGIN:VALARM
ACTION:DISPLAY
DESCRIPTION:Erinnerung: Echtes Mittelalter-Feeling hoch über dem Fluss beg
 innt in 1 Stunde
TRIGGER;RELATED=END:-PT1H
END:VALARM
END:VEVENT
END:VCALENDAR
