BEGIN:VCALENDAR
PRODID:-//eluceo/ical//2.0/EN
VERSION:2.0
CALSCALE:GREGORIAN
BEGIN:VEVENT
UID:389c95d0ad66f8da4ce07804e4524973
DTSTAMP:20260426T005537Z
SUMMARY:Wo die Bahn pünktlich fährt
DESCRIPTION:Seit 1954 verkehren im Küchwaldpark auf einem Rundkurs von 2\,
 3 km Länge auf der 600-mm-Spur die Züge der Parkeisenbahn. Auf diesem Ru
 ndkurs betrachtet man die Spiel- und Sportanlagen einmal aus einer ganz an
 deren Perspektive.
URL:https://www.meinplaner.com
DTSTART;TZID=Europe/Amsterdam:20260426T100000
DTEND;TZID=Europe/Amsterdam:20260426T120000
LOCATION:Küchwaldring 24\, 09113 Chemnitz
BEGIN:VALARM
ACTION:DISPLAY
DESCRIPTION:Erinnerung: Wo die Bahn pünktlich fährt beginnt in 1 Stunde
TRIGGER;RELATED=END:-PT1H
END:VALARM
END:VEVENT
BEGIN:VEVENT
UID:c8c66c94c8567dc83e54b290cd764970
DTSTAMP:20260426T005537Z
SUMMARY:Wo die Bahn pünktlich fährt
DESCRIPTION:Seit 1954 verkehren im Küchwaldpark auf einem Rundkurs von 2\,
 3 km Länge auf der 600-mm-Spur die Züge der Parkeisenbahn. Auf diesem Ru
 ndkurs betrachtet man die Spiel- und Sportanlagen einmal aus einer ganz an
 deren Perspektive.
URL:https://www.meinplaner.com
DTSTART;TZID=Europe/Amsterdam:20260426T130000
DTEND;TZID=Europe/Amsterdam:20260426T180000
LOCATION:Küchwaldring 24\, 09113 Chemnitz
BEGIN:VALARM
ACTION:DISPLAY
DESCRIPTION:Erinnerung: Wo die Bahn pünktlich fährt beginnt in 1 Stunde
TRIGGER;RELATED=END:-PT1H
END:VALARM
END:VEVENT
END:VCALENDAR
