BEGIN:VCALENDAR
PRODID:-//eluceo/ical//2.0/EN
VERSION:2.0
CALSCALE:GREGORIAN
BEGIN:VEVENT
UID:d06f610809486b54effac9edca5cb1b4
DTSTAMP:20260424T072340Z
SUMMARY:Tropikalypse now
DESCRIPTION:Die Ausstellung zeigt Collagen als vielschichtige Hybridwesen a
 us Mode\, Kunst\, Lifestyle und Popkultur. Inspiriert vom „Anthropophagi
 schen Manifest“ werden westliche Bildwelten verschlungen\, verwandelt un
 d im künstlerischen Prozess neu erfahrbar gemacht.
URL:https://www.meinplaner.com
DTSTART;TZID=Europe/Amsterdam:20260424T110000
DTEND;TZID=Europe/Amsterdam:20260424T170000
LOCATION:Moritzstr. 20\, 09111 Chemnitz
BEGIN:VALARM
ACTION:DISPLAY
DESCRIPTION:Erinnerung: Tropikalypse now beginnt in 1 Stunde
TRIGGER;RELATED=END:-PT1H
END:VALARM
END:VEVENT
END:VCALENDAR
