BEGIN:VCALENDAR
PRODID:-//eluceo/ical//2.0/EN
VERSION:2.0
CALSCALE:GREGORIAN
BEGIN:VEVENT
UID:1e23b5ba3845c8e5b79c6f171284e927
DTSTAMP:20260422T103031Z
SUMMARY:Camera Acting
DESCRIPTION:Der Kurs vermittelt Grundlagen des filmischen Spiels: Szenenarb
 eit\, Kamerawirkung und präzises Schauspiel stehen im Fokus. Mit praktisc
 hen Übungen und Dreharbeiten entsteht ein Gespür für Timing\, Technik u
 nd authentische Präsenz vor der Kamera. 🎬✨
URL:https://www.meinplaner.com
DTSTART;TZID=Europe/Amsterdam:20260424T110000
DTEND;TZID=Europe/Amsterdam:20260424T163000
LOCATION:Moritzstr. 20\, 09111 Chemnitz
BEGIN:VALARM
ACTION:DISPLAY
DESCRIPTION:Erinnerung: Camera Acting beginnt in 1 Stunde
TRIGGER;RELATED=END:-PT1H
END:VALARM
END:VEVENT
END:VCALENDAR
