BEGIN:VCALENDAR
PRODID:-//eluceo/ical//2.0/EN
VERSION:2.0
CALSCALE:GREGORIAN
BEGIN:VEVENT
UID:949067bd0b1dd43153a7e79f0299daf3
DTSTAMP:20260420T153922Z
SUMMARY:28. Chemnitzer Schultheaterwoche: Die Nacht der lebenden Legenden
DESCRIPTION:Eine Schulklasse verbringt eine Nacht im Museum. Während der F
 ührung verschwinden nach und nach die Lehrer:innen\, schließlich auch de
 r Museumswächter. Die Klasse sucht nach ihnen – doch bald wird klar: Im
  Museum stimmt etwas nicht.
URL:https://www.meinplaner.com
DTSTART;TZID=Europe/Amsterdam:20260421T180000
DTEND;TZID=Europe/Amsterdam:20260421T200000
LOCATION:Altchemnitzer Str. 27\, 09120 Chemnitz
BEGIN:VALARM
ACTION:DISPLAY
DESCRIPTION:Erinnerung: 28. Chemnitzer Schultheaterwoche: Die Nacht der leb
 enden Legenden beginnt in 1 Stunde
TRIGGER;RELATED=END:-PT1H
END:VALARM
END:VEVENT
END:VCALENDAR
