BEGIN:VCALENDAR
PRODID:-//eluceo/ical//2.0/EN
VERSION:2.0
CALSCALE:GREGORIAN
BEGIN:VEVENT
UID:a284a80653836c05cbcd929d1b36defc
DTSTAMP:20260424T002858Z
SUMMARY:Speisen nach Uromas Rezepten
DESCRIPTION:Oben urig unten abenteuerlich. Das Restaurant Felsendome umgibt
  der Hauch der Jahrhunderte.  Vor über 600 Jahren begann hier der Kalkabb
 au. Heute ist es ein einzigartiges Ausflugsziel und deftige erzgebirgische
  Speisen nach Uromas Rezept krönen das Erlebnis.
URL:https://www.meinplaner.com
DTSTART;TZID=Europe/Amsterdam:20260424T110000
DTEND;TZID=Europe/Amsterdam:20260424T230000
LOCATION:Weg nach dem Kalkwerk 4\, 09117 Chemnitz
BEGIN:VALARM
ACTION:DISPLAY
DESCRIPTION:Erinnerung: Speisen nach Uromas Rezepten beginnt in 1 Stunde
TRIGGER;RELATED=END:-PT1H
END:VALARM
END:VEVENT
END:VCALENDAR
