BEGIN:VCALENDAR
PRODID:-//eluceo/ical//2.0/EN
VERSION:2.0
CALSCALE:GREGORIAN
BEGIN:VEVENT
UID:6b97070d2b6eef97e301f7ce485f2a7f
DTSTAMP:20260426T013443Z
SUMMARY:Alte Liebe
DESCRIPTION:Lore hat Angst: Wird sie mit ihrem frisch pensionierten Ehemann
  Harry bald nur noch untätig im Garten sitzen und auf ihr Ende warten? So
 ll es das tatsächlich schon gewesen sein? Schauspiel nach einem Roman von
  Elke Heidenreich und Bernd Schroeder.
URL:https://www.meinplaner.com
DTSTART;TZID=Europe/Amsterdam:20260501T190000
DTEND;TZID=Europe/Amsterdam:20260501T210000
LOCATION:Schloss 1\, 09573 Augustusburg
BEGIN:VALARM
ACTION:DISPLAY
DESCRIPTION:Erinnerung: Alte Liebe beginnt in 1 Stunde
TRIGGER;RELATED=END:-PT1H
END:VALARM
END:VEVENT
END:VCALENDAR
