BEGIN:VCALENDAR
PRODID:-//eluceo/ical//2.0/EN
VERSION:2.0
CALSCALE:GREGORIAN
BEGIN:VEVENT
UID:9bff128d284488140fd0d96402c0f8da
DTSTAMP:20260420T154123Z
SUMMARY:Caravaggio oder die Stille unseres Herzschlages
DESCRIPTION:In der Choreografie entfaltet sich die Verbindung zwischen den 
 kraftvollen Bildern des Malers und den Tänzern\, deren Bewegungen die men
 schliche Tiefe und die emotionale Resonanz seiner Werke auf eindrucksvolle
  Weise verkörpern.
URL:https://www.meinplaner.com
DTSTART;TZID=Europe/Amsterdam:20260424T193000
DTEND;TZID=Europe/Amsterdam:20260424T213000
LOCATION:Theaterplatz  2\, 09111 Chemnitz
BEGIN:VALARM
ACTION:DISPLAY
DESCRIPTION:Erinnerung: Caravaggio oder die Stille unseres Herzschlages beg
 innt in 1 Stunde
TRIGGER;RELATED=END:-PT1H
END:VALARM
END:VEVENT
END:VCALENDAR
