BEGIN:VCALENDAR
PRODID:-//eluceo/ical//2.0/EN
VERSION:2.0
CALSCALE:GREGORIAN
BEGIN:VEVENT
UID:4527192cffe8af643412a5cb6327a7d2
DTSTAMP:20260424T021047Z
SUMMARY:Wohnzimmer-Musikbar mit Biergarten im Grünen
DESCRIPTION:Zu Besuch im "öffentlichen Wohnzimmer" einen Steinwurf von der
  City entfernt! Wie beim angenehmen Nachbarn\, aber doch eine Bar. Ein Get
 ränk zum Feierabend. Etwas Musik. Seele und Gedanken baumeln lassen und d
 as „ein bisschen anders also woanders“ genießen.
URL:https://www.meinplaner.com
DTSTART;TZID=Europe/Amsterdam:20260424T200000
DTEND;TZID=Europe/Amsterdam:20260425T010000
LOCATION:Hohe Str. 33\, 09112 Chemnitz
BEGIN:VALARM
ACTION:DISPLAY
DESCRIPTION:Erinnerung: Wohnzimmer-Musikbar mit Biergarten im Grünen begin
 nt in 1 Stunde
TRIGGER;RELATED=END:-PT1H
END:VALARM
END:VEVENT
END:VCALENDAR
