BEGIN:VCALENDAR
PRODID:-//eluceo/ical//2.0/EN
VERSION:2.0
CALSCALE:GREGORIAN
BEGIN:VEVENT
UID:ad5846e1c9bea3f462b3d839a08ab8f4
DTSTAMP:20260420T195638Z
SUMMARY:100 Jahre Horch 8. Auf den Spuren eines Mythos
DESCRIPTION:Die neue Sonderausstellung „100 Jahre Horch 8. Auf den Spuren
  eines Mythos“ widmet sich dem legendären Achtzylindermotor von Horch. 
 Auf großer Fläche erzählen exklusive Automobile von Luxus\, Technik und
  Prestige – von den 1920ern bis in die 1980er Jahre.
URL:https://www.meinplaner.com
DTSTART;TZID=Europe/Amsterdam:20260421T093000
DTEND;TZID=Europe/Amsterdam:20260421T170000
LOCATION:Audistr. 7\, 08058 Zwickau
BEGIN:VALARM
ACTION:DISPLAY
DESCRIPTION:Erinnerung: 100 Jahre Horch 8. Auf den Spuren eines Mythos begi
 nnt in 1 Stunde
TRIGGER;RELATED=END:-PT1H
END:VALARM
END:VEVENT
END:VCALENDAR
