BEGIN:VCALENDAR
PRODID:-//eluceo/ical//2.0/EN
VERSION:2.0
CALSCALE:GREGORIAN
BEGIN:VEVENT
UID:8125cbff1e9c30805ec0f8d6649018d9
DTSTAMP:20260426T025757Z
SUMMARY:Kiez-Ambiente und Selbstgebackenes
DESCRIPTION:Er ist Kult "Emmas Onkel". Gesehen hat ihn noch keiner. Bei ihm
  wohlgefühlt viele.  Ganz wie in einem großen Wohnzimmer\, lädt die Kie
 zwohlführestauration auf dem Kaßberg ein zu leckeren selbstgebackenen Ku
 chen\, Torten\, Eis und viele Tee- und Kaffeesorten. 
URL:https://www.meinplaner.com
DTSTART;TZID=Europe/Amsterdam:20260426T140000
DTEND;TZID=Europe/Amsterdam:20260426T190000
LOCATION:Weststr.  67\, 09112 Chemnitz
BEGIN:VALARM
ACTION:DISPLAY
DESCRIPTION:Erinnerung: Kiez-Ambiente und Selbstgebackenes beginnt in 1 Stu
 nde
TRIGGER;RELATED=END:-PT1H
END:VALARM
END:VEVENT
END:VCALENDAR
