BEGIN:VCALENDAR
PRODID:-//eluceo/ical//2.0/EN
VERSION:2.0
CALSCALE:GREGORIAN
BEGIN:VEVENT
UID:b9cbe011136bae12e9b8a15237c2d7a0
DTSTAMP:20260426T001719Z
SUMMARY:Blutspende
DESCRIPTION:In Chemnitz wird regelmäßig eine Blutspendeaktion organisiert
 \, bei der alle dazu eingeladen sind\, einen wichtigen Beitrag zu leisten 
 und Leben zu retten. Jeder Spender kann helfen\, den Bedarf an Blutkonserv
 en zu decken und somit anderen in Not zu unterstützen.
URL:https://www.meinplaner.com
DTSTART;TZID=Europe/Amsterdam:20260506T153000
DTEND;TZID=Europe/Amsterdam:20260506T193000
LOCATION:Unritzstr. 23\, 09117 Chemnitz
BEGIN:VALARM
ACTION:DISPLAY
DESCRIPTION:Erinnerung: Blutspende beginnt in 1 Stunde
TRIGGER;RELATED=END:-PT1H
END:VALARM
END:VEVENT
END:VCALENDAR
