BEGIN:VCALENDAR
PRODID:-//eluceo/ical//2.0/EN
VERSION:2.0
CALSCALE:GREGORIAN
BEGIN:VEVENT
UID:a5617e4e01d038778cdb096f195c8ab3
DTSTAMP:20260423T002654Z
SUMMARY:Spargelbuffet
DESCRIPTION:Zum exquisiten Spargelbuffet lernen Gäste die königliche Deli
 katesse in all ihren facettenreichen Variationen zu genießen. Spargel ist
  nicht nur schmackhaft\, sondern auch kalorienarm\, vitamin- und ballastst
 offreich und enthält die wichtige Folsäure.
URL:https://www.meinplaner.com
DTSTART;TZID=Europe/Amsterdam:20260423T180000
DTEND;TZID=Europe/Amsterdam:20260423T200000
LOCATION:Schloßberg 16\, 09113 Chemnitz
BEGIN:VALARM
ACTION:DISPLAY
DESCRIPTION:Erinnerung: Spargelbuffet beginnt in 1 Stunde
TRIGGER;RELATED=END:-PT1H
END:VALARM
END:VEVENT
END:VCALENDAR
