BEGIN:VCALENDAR
PRODID:-//eluceo/ical//2.0/EN
VERSION:2.0
CALSCALE:GREGORIAN
BEGIN:VEVENT
UID:62833b9b4b931725a0d51463ca8e00b0
DTSTAMP:20260423T021924Z
SUMMARY:Weinabend mit dem Weingut Olinger
DESCRIPTION:Ein Abend fränkischer Weinkultur im Kaßbergkeller: Das Weingu
 t Olinger ist zu Gast. Winzer Nico Olinger präsentiert charakterstarke We
 ißweine\, spricht über biologischen Anbau und begleitet die Verkostung p
 ersönlich – genussvoll\, entspannt und dialogreich.
URL:https://www.meinplaner.com
DTSTART;TZID=Europe/Amsterdam:20260423T180000
DTEND;TZID=Europe/Amsterdam:20260423T210000
LOCATION:Fabrikstr. 6\, 09111 Chemnitz
BEGIN:VALARM
ACTION:DISPLAY
DESCRIPTION:Erinnerung: Weinabend mit dem Weingut Olinger beginnt in 1 Stun
 de
TRIGGER;RELATED=END:-PT1H
END:VALARM
END:VEVENT
END:VCALENDAR
