BEGIN:VCALENDAR
PRODID:-//eluceo/ical//2.0/EN
VERSION:2.0
CALSCALE:GREGORIAN
BEGIN:VEVENT
UID:a6e0d1805b1102feafd9cd93d2c8117e
DTSTAMP:20260425T222513Z
SUMMARY:Hamnet
DESCRIPTION:In "Hamnet" erzählt Chloé Zhao die berührende Geschichte von
  William Shakespeares Familie\, fokussiert auf seine Frau Agnes\, deren Li
 ebe und Trauer nach dem Verlust ihres Sohnes Hamnet ihn zur Schöpfung des
  Meisterwerks "Hamlet" inspiriert.
URL:https://www.meinplaner.com
DTSTART;TZID=Europe/Amsterdam:20260426T174500
DTEND;TZID=Europe/Amsterdam:20260426T194500
LOCATION:Neustädter Ring  2\, 08340 Schwarzenberg/Erzgeb.
BEGIN:VALARM
ACTION:DISPLAY
DESCRIPTION:Erinnerung: Hamnet beginnt in 1 Stunde
TRIGGER;RELATED=END:-PT1H
END:VALARM
END:VEVENT
END:VCALENDAR
