BEGIN:VCALENDAR
PRODID:-//eluceo/ical//2.0/EN
VERSION:2.0
CALSCALE:GREGORIAN
BEGIN:VEVENT
UID:fe9b1262fce5da556ab5900858fc3789
DTSTAMP:20260426T015515Z
SUMMARY:Prima Facie
DESCRIPTION:Tessa Ensler\, erfolgreiche Strafverteidigerin aus London\, spe
 zialisiert auf Verteidigung bei Sexualdelikten\, erlebt einen Übergriff u
 nd hinterfragt die Gerechtigkeit des Rechtssystems. Das Monodrama beleucht
 et die strukturelle Ungleichheit der Justiz.
URL:https://www.meinplaner.com
DTSTART;TZID=Europe/Amsterdam:20260426T190000
DTEND;TZID=Europe/Amsterdam:20260426T210000
LOCATION:Altchemnitzer Str. 27\, 09120 Chemnitz
BEGIN:VALARM
ACTION:DISPLAY
DESCRIPTION:Erinnerung: Prima Facie beginnt in 1 Stunde
TRIGGER;RELATED=END:-PT1H
END:VALARM
END:VEVENT
END:VCALENDAR
