BEGIN:VCALENDAR
PRODID:-//eluceo/ical//2.0/EN
VERSION:2.0
CALSCALE:GREGORIAN
BEGIN:VEVENT
UID:adea7e68cbc4d9ba6adf4e0a9a21ca15
DTSTAMP:20260419T212331Z
SUMMARY:Party am Freitag für Erwachsene
DESCRIPTION:Party am Freitag 🔥 – kraftvolle Beats\, moderner Sound und
  ein klarer Ü23-Vibe bringen die Nacht zum Leuchten. Ein stylisher Mix au
 s Energie und Weekend-Feeling macht den Abend zum perfekten Start ins Woch
 enende.
URL:https://www.meinplaner.com
DTSTART;TZID=Europe/Amsterdam:20260501T210000
DTEND;TZID=Europe/Amsterdam:20260501T230000
LOCATION:Chemnitzer Str. 2\, 09232 Hartmannsdorf
BEGIN:VALARM
ACTION:DISPLAY
DESCRIPTION:Erinnerung: Party am Freitag für Erwachsene beginnt in 1 Stund
 e
TRIGGER;RELATED=END:-PT1H
END:VALARM
END:VEVENT
END:VCALENDAR
