BEGIN:VCALENDAR
PRODID:-//eluceo/ical//2.0/EN
VERSION:2.0
CALSCALE:GREGORIAN
BEGIN:VEVENT
UID:cf936acc2f747a821cc5d51889ffe10a
DTSTAMP:20260420T002705Z
SUMMARY:Karolin Schwab: My Floating Home
DESCRIPTION:Wie eine flüchtige dreidimensionale Hausskizze steht die Skulp
 tur zwischen den Böschungen des Mühlgrabens. Dort entstehen im Wechsel d
 er Jahreszeiten sich ständig verändernde Bilder im Wasser\, die die Frag
 e nach dem zu Hause\, dem verankert sein stellen. 
URL:https://www.meinplaner.com
DTSTART;TZID=Europe/Amsterdam:20260420T000000
DTEND;TZID=Europe/Amsterdam:20260420T235900
LOCATION:Kirchsteig \, 09577 Niederwiesa
BEGIN:VALARM
ACTION:DISPLAY
DESCRIPTION:Erinnerung: Karolin Schwab: My Floating Home beginnt in 1 Stund
 e
TRIGGER;RELATED=END:-PT1H
END:VALARM
END:VEVENT
END:VCALENDAR
