BEGIN:VCALENDAR
PRODID:-//eluceo/ical//2.0/EN
VERSION:2.0
CALSCALE:GREGORIAN
BEGIN:VEVENT
UID:756aa1d044ac259c100fb6be67383d36
DTSTAMP:20260423T041335Z
SUMMARY:Kindertagswochenende im Klein-Erzgebirge
DESCRIPTION:Ein Wochenende ganz für Kinder: Hüpfburgen und kreative Angeb
 ote sorgen für Spiel\, Spaß und Bewegung im Freigelände.
URL:https://www.meinplaner.com
DTSTART;TZID=Europe/Amsterdam:20260530T100000
DTEND;TZID=Europe/Amsterdam:20260530T180000
LOCATION:Gerichtsstr. 5\, 09569 Oederan
BEGIN:VALARM
ACTION:DISPLAY
DESCRIPTION:Erinnerung: Kindertagswochenende im Klein-Erzgebirge beginnt in
  1 Stunde
TRIGGER;RELATED=END:-PT1H
END:VALARM
END:VEVENT
END:VCALENDAR
