BEGIN:VCALENDAR
PRODID:-//eluceo/ical//2.0/EN
VERSION:2.0
CALSCALE:GREGORIAN
BEGIN:VEVENT
UID:0d8bcf18f494125b2f36580b3ee71dac
DTSTAMP:20260422T103038Z
SUMMARY:Workshop mit Raum.Zauber.Traum
DESCRIPTION:Kreativität trifft Entspannung: In diesem Workshop entstehen i
 ndividuelle Deko-Objekte mit viel Liebe zum Detail. Raum.Zauber.Traum läd
 t zu einer inspirierenden Auszeit ein – voller Ideen\, Gestaltung und pe
 rsönlichem Ausdruck. ✨🎨
URL:https://www.meinplaner.com
DTSTART;TZID=Europe/Amsterdam:20260424T150000
DTEND;TZID=Europe/Amsterdam:20260424T170000
LOCATION:Johannisplatz  10\, 09111 Chemnitz
BEGIN:VALARM
ACTION:DISPLAY
DESCRIPTION:Erinnerung: Workshop mit Raum.Zauber.Traum beginnt in 1 Stunde
TRIGGER;RELATED=END:-PT1H
END:VALARM
END:VEVENT
END:VCALENDAR
