BEGIN:VCALENDAR
PRODID:-//eluceo/ical//2.0/EN
VERSION:2.0
CALSCALE:GREGORIAN
BEGIN:VEVENT
UID:79157cbf950b08bdd17a4ff9539d04b2
DTSTAMP:20260424T021041Z
SUMMARY:C-You Hotel
DESCRIPTION:Ein Haus mit einem sehr individuellen Charakter. Das urbane Amb
 iente der modernen Zimmer bietet Gästen alles\, was man für einen Aufent
 halt in einer Stadt braucht. Das umfangreiche Frühstücksbuffet bietet Ü
 berraschungen und ein täglich wechselndes Angebot.
URL:https://www.meinplaner.com
DTSTART;TZID=Europe/Amsterdam:20260424T000000
DTEND;TZID=Europe/Amsterdam:20260424T235900
LOCATION:Dresdner Str. 136\, 09131 Chemnitz
BEGIN:VALARM
ACTION:DISPLAY
DESCRIPTION:Erinnerung: C-You Hotel beginnt in 1 Stunde
TRIGGER;RELATED=END:-PT1H
END:VALARM
END:VEVENT
END:VCALENDAR
