BEGIN:VCALENDAR
PRODID:-//eluceo/ical//2.0/EN
VERSION:2.0
CALSCALE:GREGORIAN
BEGIN:VEVENT
UID:08f2730c82d8e9d52464182b5d389d62
DTSTAMP:20260422T185819Z
SUMMARY:Eisspezialitäten
DESCRIPTION:24 Sorten hausgemachtes Eis und kreative Eisbecher wie der „H
 enry van de Velde“ oder das „Chemnitzer Früchtchen“ sorgen für bes
 ondere Genussmomente. Perfekt für eine süße Auszeit.
URL:https://www.meinplaner.com
DTSTART;TZID=Europe/Amsterdam:20260422T090000
DTEND;TZID=Europe/Amsterdam:20260422T200000
LOCATION:Düsseldorfer Platz 1\, 09111 Chemnitz
BEGIN:VALARM
ACTION:DISPLAY
DESCRIPTION:Erinnerung: Eisspezialitäten beginnt in 1 Stunde
TRIGGER;RELATED=END:-PT1H
END:VALARM
END:VEVENT
END:VCALENDAR
