BEGIN:VCALENDAR
PRODID:-//eluceo/ical//2.0/EN
VERSION:2.0
CALSCALE:GREGORIAN
BEGIN:VEVENT
UID:bc7e4a98b6ecbfcd449b3d177fd4ec96
DTSTAMP:20260420T054753Z
SUMMARY:Tage der Biodiversität
DESCRIPTION:Die Tage der Biodiversität rücken die Vielfalt des Lebens in 
 den Mittelpunkt. Mit Aktionen\, Vorträgen und Mitmachangeboten wird gezei
 gt\, warum Artenvielfalt wichtig ist\, wie Ökosysteme funktionieren und w
 as jede und jeder zu ihrem Schutz beitragen kann.
URL:https://www.meinplaner.com
DTSTART;TZID=Europe/Amsterdam:20260620T100000
DTEND;TZID=Europe/Amsterdam:20260620T160000
LOCATION:Tierparkstr. 1\, 09212 Limbach-Oberfrohna
BEGIN:VALARM
ACTION:DISPLAY
DESCRIPTION:Erinnerung: Tage der Biodiversität beginnt in 1 Stunde
TRIGGER;RELATED=END:-PT1H
END:VALARM
END:VEVENT
END:VCALENDAR
