BEGIN:VCALENDAR
PRODID:-//eluceo/ical//2.0/EN
VERSION:2.0
CALSCALE:GREGORIAN
BEGIN:VEVENT
UID:4f6afd89beaadb024366fd9c504e27e0
DTSTAMP:20260419T202248Z
SUMMARY:Burgmuseum & Karl Stülpner
DESCRIPTION:Das Burgmuseum führt in 800 Jahre Burggeschichte und in die sa
 genhafte Welt von Karl Stülpner. Als Wildschütz\, Schmuggler und Überle
 benskünstler war er den Adligen stets eine Nasenlänge voraus. Damals wie
  heute gilt er als Volksheld des Erzgebirges.
URL:https://www.meinplaner.com
DTSTART;TZID=Europe/Amsterdam:20260421T100000
DTEND;TZID=Europe/Amsterdam:20260421T180000
LOCATION:Schlossberg 1\, 09430 Drebach
BEGIN:VALARM
ACTION:DISPLAY
DESCRIPTION:Erinnerung: Burgmuseum & Karl Stülpner beginnt in 1 Stunde
TRIGGER;RELATED=END:-PT1H
END:VALARM
END:VEVENT
END:VCALENDAR
