BEGIN:VCALENDAR
PRODID:-//eluceo/ical//2.0/EN
VERSION:2.0
CALSCALE:GREGORIAN
BEGIN:VEVENT
UID:68a70a94617e317da678aa8577c05c2f
DTSTAMP:20260420T234631Z
SUMMARY:Für immer ein Teil von dir - Reminders of Him
DESCRIPTION:Nur die Erinnerung bleibt ... FÜR IMMER EIN TEIL VON DIR erzä
 hlt von Kenna\, die nach dem Verlust ihrer großen Liebe in ihre Heimatsta
 dt zurückkehrt. Auf der Suche nach einem Neuanfang entdeckt sie die Kraft
  von Vergebung und die heilende Macht der Liebe.
URL:https://www.meinplaner.com
DTSTART;TZID=Europe/Amsterdam:20260421T195000
DTEND;TZID=Europe/Amsterdam:20260421T215000
LOCATION:Poetenweg 6-8\, 08056 Zwickau
BEGIN:VALARM
ACTION:DISPLAY
DESCRIPTION:Erinnerung: Für immer ein Teil von dir - Reminders of Him begi
 nnt in 1 Stunde
TRIGGER;RELATED=END:-PT1H
END:VALARM
END:VEVENT
BEGIN:VEVENT
UID:de56ee2ddb7325017d72ada637b0f88f
DTSTAMP:20260420T234631Z
SUMMARY:Für immer ein Teil von dir - Reminders of Him
DESCRIPTION:Nur die Erinnerung bleibt ... FÜR IMMER EIN TEIL VON DIR erzä
 hlt von Kenna\, die nach dem Verlust ihrer großen Liebe in ihre Heimatsta
 dt zurückkehrt. Auf der Suche nach einem Neuanfang entdeckt sie die Kraft
  von Vergebung und die heilende Macht der Liebe.
URL:https://www.meinplaner.com
DTSTART;TZID=Europe/Amsterdam:20260421T171000
DTEND;TZID=Europe/Amsterdam:20260421T191000
LOCATION:Poetenweg 6-8\, 08056 Zwickau
BEGIN:VALARM
ACTION:DISPLAY
DESCRIPTION:Erinnerung: Für immer ein Teil von dir - Reminders of Him begi
 nnt in 1 Stunde
TRIGGER;RELATED=END:-PT1H
END:VALARM
END:VEVENT
BEGIN:VEVENT
UID:759e54eed8f891fe34ed7c04b37b4a1b
DTSTAMP:20260420T234631Z
SUMMARY:Für immer ein Teil von dir - Reminders of Him
DESCRIPTION:Nur die Erinnerung bleibt ... FÜR IMMER EIN TEIL VON DIR erzä
 hlt von Kenna\, die nach dem Verlust ihrer großen Liebe in ihre Heimatsta
 dt zurückkehrt. Auf der Suche nach einem Neuanfang entdeckt sie die Kraft
  von Vergebung und die heilende Macht der Liebe.
URL:https://www.meinplaner.com
DTSTART;TZID=Europe/Amsterdam:20260421T143000
DTEND;TZID=Europe/Amsterdam:20260421T163000
LOCATION:Poetenweg 6-8\, 08056 Zwickau
BEGIN:VALARM
ACTION:DISPLAY
DESCRIPTION:Erinnerung: Für immer ein Teil von dir - Reminders of Him begi
 nnt in 1 Stunde
TRIGGER;RELATED=END:-PT1H
END:VALARM
END:VEVENT
END:VCALENDAR
