BEGIN:VCALENDAR
PRODID:-//eluceo/ical//2.0/EN
VERSION:2.0
CALSCALE:GREGORIAN
BEGIN:VEVENT
UID:8aaf0d7008b5a89851a83822dc540ef0
DTSTAMP:20260423T074949Z
SUMMARY:Wie Kraut und Rüben
DESCRIPTION:„Wie Kraut und Rüben!“ – die Ausstellung gibt einen ansc
 haulichen Einblick in den traditionellen Anbau von Grünfutter und Hackfr
 üchten. Sie zeigt deren Bedeutung für die Landwirtschaft und die Versorg
 ung von Mensch und Tier im ländlichen Alltag.
URL:https://www.meinplaner.com
DTSTART;TZID=Europe/Amsterdam:20260423T100000
DTEND;TZID=Europe/Amsterdam:20260423T170000
LOCATION:Gahlenzer Str. 105\, 09569 Oederan
BEGIN:VALARM
ACTION:DISPLAY
DESCRIPTION:Erinnerung: Wie Kraut und Rüben beginnt in 1 Stunde
TRIGGER;RELATED=END:-PT1H
END:VALARM
END:VEVENT
END:VCALENDAR
