BEGIN:VCALENDAR
PRODID:-//eluceo/ical//2.0/EN
VERSION:2.0
CALSCALE:GREGORIAN
BEGIN:VEVENT
UID:2b482adfb8b76bdc09fe0ca98de8d295
DTSTAMP:20260421T014442Z
SUMMARY:Welttag der Partnerstädte in Stollberg/Erzgeb. 
DESCRIPTION:Das Haus der Partnerschaften öffnet seine Türen und gibt Einb
 licke in internationale Verbindungen der Stadt. Ergänzt wird das Programm
  durch Führungen zur vollen Stunde sowie ein kreatives Mitmachangebot.
URL:https://www.meinplaner.com
DTSTART;TZID=Europe/Amsterdam:20260426T140000
DTEND;TZID=Europe/Amsterdam:20260426T170000
LOCATION:Hohensteiner Str. 16\, 09366 Stollberg/Erzgeb.
BEGIN:VALARM
ACTION:DISPLAY
DESCRIPTION:Erinnerung: Welttag der Partnerstädte in Stollberg/Erzgeb.  be
 ginnt in 1 Stunde
TRIGGER;RELATED=END:-PT1H
END:VALARM
END:VEVENT
END:VCALENDAR
