BEGIN:VCALENDAR
PRODID:-//eluceo/ical//2.0/EN
VERSION:2.0
CALSCALE:GREGORIAN
BEGIN:VEVENT
UID:bf3cfbed7957278a27bb5474b3dd430f
DTSTAMP:20260420T062812Z
SUMMARY:Handarbeitstreffen
DESCRIPTION:Wöchentlicher Handarbeitstreff für alle Kreativen. Ob Nähen\
 , Häkeln\, Stricken oder Sticken – gemeinsam wird an eigenen Projekten 
 gearbeitet\, Erfahrungen ausgetauscht und gegenseitig fachlicher Rat gegeb
 en.
URL:https://www.meinplaner.com
DTSTART;TZID=Europe/Amsterdam:20260422T123000
DTEND;TZID=Europe/Amsterdam:20260422T140000
LOCATION:Erlaer Str.  1\, 08340 Schwarzenberg/Erzgeb.
BEGIN:VALARM
ACTION:DISPLAY
DESCRIPTION:Erinnerung: Handarbeitstreffen beginnt in 1 Stunde
TRIGGER;RELATED=END:-PT1H
END:VALARM
END:VEVENT
END:VCALENDAR
