BEGIN:VCALENDAR
PRODID:-//eluceo/ical//2.0/EN
VERSION:2.0
CALSCALE:GREGORIAN
BEGIN:VEVENT
UID:fc16a4ced5a48f822e808b5e4e4a8e5a
DTSTAMP:20260419T230042Z
SUMMARY:Frisch und lecker
DESCRIPTION:Mittag in gemütlicher Atmosphäre – immer frisch gekocht und
  zu fairen Preisen. Genießen Sie alle Speisen & Getränke in unserem Rest
 aurant\, auf unserer Terrasse oder zu Hause (Abholung). Eine Vorbestellung
  ist nicht notwendig.
URL:https://www.meinplaner.com
DTSTART;TZID=Europe/Amsterdam:20260420T110000
DTEND;TZID=Europe/Amsterdam:20260420T140000
LOCATION:Schönherrstr. 8\, 09113 Chemnitz
BEGIN:VALARM
ACTION:DISPLAY
DESCRIPTION:Erinnerung: Frisch und lecker beginnt in 1 Stunde
TRIGGER;RELATED=END:-PT1H
END:VALARM
END:VEVENT
END:VCALENDAR
