BEGIN:VCALENDAR
PRODID:-//eluceo/ical//2.0/EN
VERSION:2.0
CALSCALE:GREGORIAN
BEGIN:VEVENT
UID:d3b19670d757a365baaa7117d89c1d6a
DTSTAMP:20260425T231652Z
SUMMARY:Die angespannte Mitte. Die Mitte-Studie in der Diskussion
DESCRIPTION:Die Veranstaltung stellt zentrale Ergebnisse der aktuellen Mitt
 e-Studie der Friedrich-Ebert-Stiftung vor. Im Fokus stehen gesellschaftlic
 he Entwicklungen\, rechtsextreme Einstellungen und deren Einordnung im Kon
 text aktueller Herausforderungen.
URL:https://www.meinplaner.com
DTSTART;TZID=Europe/Amsterdam:20260511T180000
DTEND;TZID=Europe/Amsterdam:20260511T193000
LOCATION:Moritzstr. 20\, 09111 Chemnitz
BEGIN:VALARM
ACTION:DISPLAY
DESCRIPTION:Erinnerung: Die angespannte Mitte. Die Mitte-Studie in der Disk
 ussion beginnt in 1 Stunde
TRIGGER;RELATED=END:-PT1H
END:VALARM
END:VEVENT
END:VCALENDAR
