BEGIN:VCALENDAR
PRODID:-//eluceo/ical//2.0/EN
VERSION:2.0
CALSCALE:GREGORIAN
BEGIN:VEVENT
UID:44584367be36ed01197101f516cca4c6
DTSTAMP:20260424T020923Z
SUMMARY:Gemütlich\, Vielseitig\, Einzigartig
DESCRIPTION:Das charmante Café und gleichzeitig Bar bietet eine einzigarti
 ge Fusion aus nahöstlicher und asiatischer Küche\, darunter vegane Früh
 stücksoptionen. Mit gemütlicher Atmosphäre\, hochwertigem Kaffee und er
 lesenen Getränken lädt es zum Verweilen ein.
URL:https://www.meinplaner.com
DTSTART;TZID=Europe/Amsterdam:20260424T120000
DTEND;TZID=Europe/Amsterdam:20260424T230000
LOCATION:Enzmannstr. 17\, 09112 Chemnitz
BEGIN:VALARM
ACTION:DISPLAY
DESCRIPTION:Erinnerung: Gemütlich\, Vielseitig\, Einzigartig beginnt in 1 
 Stunde
TRIGGER;RELATED=END:-PT1H
END:VALARM
END:VEVENT
END:VCALENDAR
