BEGIN:VCALENDAR
PRODID:-//eluceo/ical//2.0/EN
VERSION:2.0
CALSCALE:GREGORIAN
BEGIN:VEVENT
UID:82713f85d1804763ebb350b09d98c87a
DTSTAMP:20260422T005905Z
SUMMARY:The Testament of Ann Lee
DESCRIPTION:Ein eindrucksvolles Porträt der Shaker-Gründerin Ann Lee: Der
  Film erzählt von Glauben\, Gleichberechtigung und dem Streben nach einer
  utopischen Gemeinschaft – getragen von intensiven Bildern und eindringl
 icher Musik.
URL:https://www.meinplaner.com
DTSTART;TZID=Europe/Amsterdam:20260422T200000
DTEND;TZID=Europe/Amsterdam:20260422T220000
LOCATION:Zwickauer Str. 11\, 09112 Chemnitz
BEGIN:VALARM
ACTION:DISPLAY
DESCRIPTION:Erinnerung: The Testament of Ann Lee beginnt in 1 Stunde
TRIGGER;RELATED=END:-PT1H
END:VALARM
END:VEVENT
END:VCALENDAR
