BEGIN:VCALENDAR
PRODID:-//eluceo/ical//2.0/EN
VERSION:2.0
CALSCALE:GREGORIAN
BEGIN:VEVENT
UID:9e9d546d203e5ac80395096731bc50fd
DTSTAMP:20260426T024501Z
SUMMARY:Tanz am Männertag
DESCRIPTION:Am Männertag wird ab 20 Uhr gemeinsam gefeiert\, getanzt und d
 ie besondere Stimmung des Abends genossen. Gute Musik sorgt für beste Lau
 ne und lädt dazu ein\, den Tag entspannt ausklingen zu lassen. Eintritt u
 nd Parken sind frei.
URL:https://www.meinplaner.com
DTSTART;TZID=Europe/Amsterdam:20260514T200000
DTEND;TZID=Europe/Amsterdam:20260514T220000
LOCATION:Chemnitzer Str. 2\, 09232 Hartmannsdorf
BEGIN:VALARM
ACTION:DISPLAY
DESCRIPTION:Erinnerung: Tanz am Männertag beginnt in 1 Stunde
TRIGGER;RELATED=END:-PT1H
END:VALARM
END:VEVENT
END:VCALENDAR
