BEGIN:VCALENDAR
PRODID:-//eluceo/ical//2.0/EN
VERSION:2.0
CALSCALE:GREGORIAN
BEGIN:VEVENT
UID:7975bf01c46baf5633eeb5c4d225b8d8
DTSTAMP:20260421T233751Z
SUMMARY:Mittagsmenü
DESCRIPTION:Mittagszeit\, japanisch inspiriert: Frische Ramen\, Currys\, Su
 shi-Rolls und Lunch-Sets sorgen für Abwechslung und Genuss. Perfekt für 
 die kurze Pause oder den entspannten Business-Lunch. Dienstag bis Freitag 
 zur Mittagszeit.
URL:https://www.meinplaner.com
DTSTART;TZID=Europe/Amsterdam:20260422T113000
DTEND;TZID=Europe/Amsterdam:20260422T140000
LOCATION:Straße der Nationen 104\, 09111 Chemnitz
BEGIN:VALARM
ACTION:DISPLAY
DESCRIPTION:Erinnerung: Mittagsmenü beginnt in 1 Stunde
TRIGGER;RELATED=END:-PT1H
END:VALARM
END:VEVENT
END:VCALENDAR
