BEGIN:VCALENDAR
PRODID:-//eluceo/ical//2.0/EN
VERSION:2.0
CALSCALE:GREGORIAN
BEGIN:VEVENT
UID:9ac73e82b904da87dc30a31e92a313d7
DTSTAMP:20260419T202259Z
SUMMARY:Bettina Pousttchi: 42 Tage
DESCRIPTION:Objekte aus dem Straßenbild werden von der Künstlerin verdreh
 t und gruppiert. So entstehen Skulpturen\, die äußeren Kräften ausgeset
 zt scheinen\, im Widerstand. Die 42 Poller erinnern an Menschengruppen und
  an 42 Tage der "Freien Republik Schwarzenberg".
URL:https://www.meinplaner.com
DTSTART;TZID=Europe/Amsterdam:20260419T000000
DTEND;TZID=Europe/Amsterdam:20260419T235900
LOCATION:Oberes Tor \, 08340 Schwarzenberg/Erzgeb.
BEGIN:VALARM
ACTION:DISPLAY
DESCRIPTION:Erinnerung: Bettina Pousttchi: 42 Tage beginnt in 1 Stunde
TRIGGER;RELATED=END:-PT1H
END:VALARM
END:VEVENT
END:VCALENDAR
