BEGIN:VCALENDAR
PRODID:-//eluceo/ical//2.0/EN
VERSION:2.0
CALSCALE:GREGORIAN
BEGIN:VEVENT
UID:01cf229857903a8cbb21f430b87442df
DTSTAMP:20260425T112447Z
SUMMARY:Schauröstungen
DESCRIPTION:Das Erlebnis der Schauröstung entführt in die Welt des Kaffee
 s – der Duft frisch gerösteter Bohnen erfüllt den Raum. Mit maximal 15
  Personen kann der faszinierende Prozess hautnah erlebt werden\, direkt im
  Herzen des Cafés.
URL:https://www.meinplaner.com
DTSTART;TZID=Europe/Amsterdam:20260425T170000
DTEND;TZID=Europe/Amsterdam:20260425T173000
LOCATION:Chemnitzer Str. 10\, 09221 Neukirchen/Erzgeb.
BEGIN:VALARM
ACTION:DISPLAY
DESCRIPTION:Erinnerung: Schauröstungen beginnt in 1 Stunde
TRIGGER;RELATED=END:-PT1H
END:VALARM
END:VEVENT
BEGIN:VEVENT
UID:f0190eebb1d9a6a6e8e1dde91c7fb8ae
DTSTAMP:20260425T112447Z
SUMMARY:Schauröstungen
DESCRIPTION:Das Erlebnis der Schauröstung entführt in die Welt des Kaffee
 s – der Duft frisch gerösteter Bohnen erfüllt den Raum. Mit maximal 15
  Personen kann der faszinierende Prozess hautnah erlebt werden\, direkt im
  Herzen des Cafés.
URL:https://www.meinplaner.com
DTSTART;TZID=Europe/Amsterdam:20260425T130000
DTEND;TZID=Europe/Amsterdam:20260425T133000
LOCATION:Chemnitzer Str. 10\, 09221 Neukirchen/Erzgeb.
BEGIN:VALARM
ACTION:DISPLAY
DESCRIPTION:Erinnerung: Schauröstungen beginnt in 1 Stunde
TRIGGER;RELATED=END:-PT1H
END:VALARM
END:VEVENT
END:VCALENDAR
