BEGIN:VCALENDAR
PRODID:-//eluceo/ical//2.0/EN
VERSION:2.0
CALSCALE:GREGORIAN
BEGIN:VEVENT
UID:f5a5b9b053495c7886527e2e1b8745dd
DTSTAMP:20260423T173350Z
SUMMARY:Kreatives Sushi-Erlebnis in stilvollem Ambiente
DESCRIPTION:Moli Moto in Chemnitz bietet ein einzigartiges Sushi-Erlebnis m
 it frischen Zutaten und kreativen Kreationen. In einer modernen\, einladen
 den Atmosphäre genießen Gäste authentische japanische Küche – perfek
 t für jeden\, der Genuss und Qualität schätzt.
URL:https://www.meinplaner.com
DTSTART;TZID=Europe/Amsterdam:20260423T113000
DTEND;TZID=Europe/Amsterdam:20260423T143000
LOCATION:Markt 19\, 09111 Chemnitz
BEGIN:VALARM
ACTION:DISPLAY
DESCRIPTION:Erinnerung: Kreatives Sushi-Erlebnis in stilvollem Ambiente beg
 innt in 1 Stunde
TRIGGER;RELATED=END:-PT1H
END:VALARM
END:VEVENT
BEGIN:VEVENT
UID:5669cbe9a73820d53a3a576316345164
DTSTAMP:20260423T173350Z
SUMMARY:Kreatives Sushi-Erlebnis in stilvollem Ambiente
DESCRIPTION:Moli Moto in Chemnitz bietet ein einzigartiges Sushi-Erlebnis m
 it frischen Zutaten und kreativen Kreationen. In einer modernen\, einladen
 den Atmosphäre genießen Gäste authentische japanische Küche – perfek
 t für jeden\, der Genuss und Qualität schätzt.
URL:https://www.meinplaner.com
DTSTART;TZID=Europe/Amsterdam:20260423T173000
DTEND;TZID=Europe/Amsterdam:20260423T220000
LOCATION:Markt 19\, 09111 Chemnitz
BEGIN:VALARM
ACTION:DISPLAY
DESCRIPTION:Erinnerung: Kreatives Sushi-Erlebnis in stilvollem Ambiente beg
 innt in 1 Stunde
TRIGGER;RELATED=END:-PT1H
END:VALARM
END:VEVENT
END:VCALENDAR
