BEGIN:VCALENDAR
PRODID:-//eluceo/ical//2.0/EN
VERSION:2.0
CALSCALE:GREGORIAN
BEGIN:VEVENT
UID:5247695fff4e69027e1662b642f38eaa
DTSTAMP:20260423T112644Z
SUMMARY:Der Astronaut - Project Hail Mary
DESCRIPTION:Ryland Grace erwacht ohne Erinnerung auf einem Raumschiff\, Lic
 htjahre von der Erde entfernt. Nach und nach erkennt er seine Mission: Ein
 e rätselhafte Substanz bedroht die Sonne und alles Leben. Mit Wissen\, Mu
 t und unerwarteter Hilfe kämpft er um das Überleben.
URL:https://www.meinplaner.com
DTSTART;TZID=Europe/Amsterdam:20260423T193000
DTEND;TZID=Europe/Amsterdam:20260423T213000
LOCATION:Poetenweg 6-8\, 08056 Zwickau
BEGIN:VALARM
ACTION:DISPLAY
DESCRIPTION:Erinnerung: Der Astronaut - Project Hail Mary beginnt in 1 Stun
 de
TRIGGER;RELATED=END:-PT1H
END:VALARM
END:VEVENT
BEGIN:VEVENT
UID:35c37365d803f3c6f3414e11a3584554
DTSTAMP:20260423T112644Z
SUMMARY:Der Astronaut - Project Hail Mary
DESCRIPTION:Ryland Grace erwacht ohne Erinnerung auf einem Raumschiff\, Lic
 htjahre von der Erde entfernt. Nach und nach erkennt er seine Mission: Ein
 e rätselhafte Substanz bedroht die Sonne und alles Leben. Mit Wissen\, Mu
 t und unerwarteter Hilfe kämpft er um das Überleben.
URL:https://www.meinplaner.com
DTSTART;TZID=Europe/Amsterdam:20260423T164000
DTEND;TZID=Europe/Amsterdam:20260423T184000
LOCATION:Poetenweg 6-8\, 08056 Zwickau
BEGIN:VALARM
ACTION:DISPLAY
DESCRIPTION:Erinnerung: Der Astronaut - Project Hail Mary beginnt in 1 Stun
 de
TRIGGER;RELATED=END:-PT1H
END:VALARM
END:VEVENT
END:VCALENDAR
