BEGIN:VCALENDAR
PRODID:-//eluceo/ical//2.0/EN
VERSION:2.0
CALSCALE:GREGORIAN
BEGIN:VEVENT
UID:9368f07fcf7bd1acc2322011f976efcb
DTSTAMP:20260425T232252Z
SUMMARY:Nacht der Wissenschaften
DESCRIPTION:Bis Mitternacht gibt es auf dem Campus viel zu entdecken: Exper
 imente zum Mitmachen\, spannende Vorträge und Einblicke in die Labore und
  Studios und natürlich die Begegnung mit nachtaktiven Studenten\, Mitarbe
 itern und Professoren. 
URL:https://www.meinplaner.com
DTSTART;TZID=Europe/Amsterdam:20260626T180000
DTEND;TZID=Europe/Amsterdam:20260626T235900
LOCATION:Am Schwanenteich 4b\, 09648 Mittweida
BEGIN:VALARM
ACTION:DISPLAY
DESCRIPTION:Erinnerung: Nacht der Wissenschaften beginnt in 1 Stunde
TRIGGER;RELATED=END:-PT1H
END:VALARM
END:VEVENT
END:VCALENDAR
